BEGIN:VCALENDAR
VERSION:2.0
PRODID:-//ChamberMaster//Event Calendar 2.0//EN
METHOD:PUBLISH
X-PUBLISHED-TTL:P3D
REFRESH-INTERVAL:P3D
CALSCALE:GREGORIAN
BEGIN:VEVENT
DTSTART:20151215T220000Z
DTEND:20151216T035900Z
X-MICROSOFT-CDO-ALLDAYEVENT:FALSE
SUMMARY:10th Annual Bucket Brigade Blood Drive
DESCRIPTION:To schedule your lifesaving appointment\, visit: www.bloodheroes.comClick "Locate a Blood Drive" and Enter Sponsor Code: Sebastopol
X-ALT-DESC;FMTTYPE=text/html:<!--  Visual Designer HTML --><p>To schedule your lifesaving appointment\, visit:&nbsp\;<a href="http://www.bloodheroes.com">www.bloodheroes.com</a></p><p>Click "Locate a Blood Drive" and Enter Sponsor Code:&nbsp\;<b>Sebastopol </b></p>&nbsp\;&nbsp\;
LOCATION:Sebastopol Fire Station 7425 Bodega Ave.\, Sebastopol\, CA 95472 Location: Truck Bay
UID:e.3189.5042938
SEQUENCE:3
DTSTAMP:20260419T143202Z
URL:https://business.sebastopol.org/events/details/10th-annual-bucket-brigade-blood-drive-12-15-2015-5042938
END:VEVENT

END:VCALENDAR
