BEGIN:VCALENDAR
VERSION:2.0
PRODID:-//ChamberMaster//Event Calendar 2.0//EN
METHOD:PUBLISH
X-PUBLISHED-TTL:P3D
REFRESH-INTERVAL:P3D
CALSCALE:GREGORIAN
BEGIN:VEVENT
DTSTART:20150619T150000Z
DTEND:20150620T000000Z
X-MICROSOFT-CDO-ALLDAYEVENT:FALSE
SUMMARY:16th Annual Habitat for Humanity Charity Golf Tournament
DESCRIPTION:16th Annual Habitat for Humanity Charity Golf Tournament Friday\, June 19th at Windsor Golf Club  Santa Rosa\, CA - May 1\, 2015   Donated prizes and auction items are pouring in as fast as volunteers can collect them! Habitat for Humanity of Sonoma County is gearing up for the 16th Annual Habitat for Humanity Charity Golf Tournament Friday\, June 19th at Windsor Golf Club.  This event promises to be fun! Tournament activities include contests\, auction items and raffles with the opportunity to win fantastic prizes. All proceeds from the event are to benefit the Habitat for Humanity of Sonoma County building homes NOW in Cotati. “It is an exciting time for Habitat for Humanity of Sonoma County” says Tamara Stanley\, Habitat’s CEO. “Several hundred volunteers\, will come together over six to months to build a three bedroom home for a low income family in need of affordable and safe housing. The 40th home built by Habitat for Humanity in Sonoma County!”  REGISTER for tournament at www.habitatsoco.org  or call us at 707-578-7707. Entry includes 18 holes of golf\, cart\, lunch\, fun & games on course\, buffet dinner\, silent auction & raffle. $150 per person.  Habitat for Humanity of Sonoma County (HFHSC) is a nonprofit\, faith based organization dedicated to improving lives by building modest\, affordable homes in partnership with our communities and families in need. Our vision is for every person in Sonoma County to have a simple\, decent place to live. Habitat for Humanity's Women Build program promotes the involvement of women in the construction of Habitat houses. Women-built projects provide an opportunity for women to learn construction in a supportive environment. Come have fun while supporting a worthwhile cause of providing affordable housing to a low income Sonoma County family.  CONTACT: To sign up for the event\, or to make a donation to the project\, call Tamara Stanley at the Habitat for Humanity of Sonoma County Offices at 578-7707 x110 www.habitatsoco.org
X-ALT-DESC;FMTTYPE=text/html:16th Annual Habitat for Humanity Charity Golf Tournament Friday\, June 19th at Windsor Golf Club  Santa Rosa\, CA - May 1\, 2015   Donated prizes and auction items are pouring in as fast as volunteers can collect them! Habitat for Humanity of Sonoma County is gearing up for the 16th Annual Habitat for Humanity Charity Golf Tournament Friday\, June 19th at Windsor Golf Club.  This event promises to be fun! Tournament activities include contests\, auction items and raffles with the opportunity to win fantastic prizes. All proceeds from the event are to benefit the Habitat for Humanity of Sonoma County building homes NOW in Cotati. “It is an exciting time for Habitat for Humanity of Sonoma County” says Tamara Stanley\, Habitat’s CEO. “Several hundred volunteers\, will come together over six to months to build a three bedroom home for a low income family in need of affordable and safe housing. The 40th home built by Habitat for Humanity in Sonoma County!”  REGISTER for tournament at www.habitatsoco.org <http://www.habitatsoco.org> or call us at 707-578-7707. Entry includes 18 holes of golf\, cart\, lunch\, fun & games on course\, buffet dinner\, silent auction & raffle. $150 per person.  Habitat for Humanity of Sonoma County (HFHSC) is a nonprofit\, faith based organization dedicated to improving lives by building modest\, affordable homes in partnership with our communities and families in need. Our vision is for every person in Sonoma County to have a simple\, decent place to live. Habitat for Humanity's Women Build program promotes the involvement of women in the construction of Habitat houses. Women-built projects provide an opportunity for women to learn construction in a supportive environment. Come have fun while supporting a worthwhile cause of providing affordable housing to a low income Sonoma County family.  CONTACT: To sign up for the event\, or to make a donation to the project\, call Tamara Stanley at the Habitat for Humanity of Sonoma County Offices at 578-7707 x110 www.habitatsoco.org <http://www.habitatsoco.org>
LOCATION:Windsor Golf Club
UID:e.3189.32672
SEQUENCE:3
DTSTAMP:20260420T003801Z
URL:https://business.sebastopol.org/events/details/16th-annual-habitat-for-humanity-charity-golf-tournament-06-19-2015-32672
END:VEVENT

END:VCALENDAR
