BEGIN:VCALENDAR
VERSION:2.0
PRODID:-//ChamberMaster//Event Calendar 2.0//EN
METHOD:PUBLISH
X-PUBLISHED-TTL:P3D
REFRESH-INTERVAL:P3D
CALSCALE:GREGORIAN
BEGIN:VEVENT
DTSTART:20150724T003000Z
DTEND:20150724T023000Z
X-MICROSOFT-CDO-ALLDAYEVENT:FALSE
SUMMARY:2015 Hall of Flowers Preview Party
DESCRIPTION:Prepare yourself for sweet nostalgia as you travel the rural back roads of Sonoma County’s famous farmland in the Sonoma County Fair’s Hall of Flowers. This year’s theme for the expansive flower show held annually during the Fair is “Barnyard Blossoms\,” which goes hand-in-hand with the Fair’s overall theme for 2015. This year’s floral show gives exhibitors the chance to create a rustic impression of how delightful life can be “Down on the Farm.” With Sonoma County’s heritage deeply rooted in agriculture\, this year’s theme brings to mind the simplicity of days gone by and still enjoyed today. Visualize antique fruit crates\, farmers markets\, farmers market store fronts and more. Themed vignettes named after barnyard animals create a sense of whimsy. Just imagine the fun and sweetness of Cowabungalow\, Horsing Around\, Pigsty Paradise\, Billy Goat Blossoms\, Donkey Diggins\, Just Ducky\, Rabbit Transit\, Loose Goose Gardens\, Chicken Shack-rila\, and Ewe-phoria. Waterfalls\, fountains\, and special props enhance the experience for a truly charming journey.This popular\npre-Fair social and fundraising event gives attendees the opportunity to be\namong the first in town to view the spectacular gardens\, while sipping Sonoma\nCounty’s best varietals\, enjoying delicious small bites\, and mingling with\nfriends and co-workers. Tickets are $30 and can be purchased in advance at the\nFairgrounds Box Office\, located at 1350 Bennett Valley Road in Santa Rosa\,\nonline at SonomaCountyFair.com\, and at the gate on Thursday\, July 23. Proceeds\nfrom the event support the Hall of Flowers Scholarship Fund for local\nagriculture students.
X-ALT-DESC;FMTTYPE=text/html:<!--  Visual Designer HTML --><p><span style="font-size:13px">\nPrepare yourself for sweet nostalgia as you travel the rural back roads of Sonoma County’s famous farmland in the Sonoma County Fair’s Hall of Flowers. This year’s theme for the expansive flower show held annually during the Fair is<span style="text-decoration:underline"><strong> “Barnyard Blossoms\,”</strong></span> which goes hand-in-hand with the Fair’s overall theme for 2015. This year’s floral show gives exhibitors the chance to create a rustic impression of how delightful life can be “Down on the Farm.”&nbsp\;</span></p><p><span style="line-height: 150%">With Sonoma County’s heritage deeply rooted in agriculture\, this year’s theme brings to mind the simplicity of days gone by and still enjoyed today. Visualize antique fruit crates\, farmers markets\, farmers market store fronts and more. Themed vignettes named after barnyard animals create a sense of whimsy. Just imagine the fun and sweetness of Cowabungalow\, Horsing Around\, Pigsty Paradise\, Billy Goat Blossoms\, Donkey Diggins\, Just Ducky\, Rabbit Transit\, Loose Goose Gardens\, Chicken Shack-rila\, and Ewe-phoria. Waterfalls\, fountains\, and special props enhance the experience for a truly charming journey.</span></p><p><span style="line-height: 150%">This popular\npre-Fair social and fundraising event gives attendees the opportunity to be\namong the first in town to view the spectacular gardens\, while sipping Sonoma\nCounty’s best varietals\, enjoying delicious small bites\, and mingling with\nfriends and co-workers. Tickets are $30 and can be purchased in advance at the\nFairgrounds Box Office\, located at 1350 Bennett Valley Road in Santa Rosa\,\nonline at SonomaCountyFair.com\, and at the gate on Thursday\, July 23. Proceeds\nfrom the event support the Hall of Flowers Scholarship Fund for local\nagriculture students.&nbsp\;</span>&nbsp\;</p>
LOCATION:Sonoma County Event Center at the Fairgrounds 1350 Bennett Valley Road Santa Rosa\, CA 95404
UID:e.3189.5042633
SEQUENCE:3
DTSTAMP:20260420T003714Z
URL:https://business.sebastopol.org/events/details/2015-hall-of-flowers-preview-party-07-23-2015-5042633
END:VEVENT

END:VCALENDAR
