BEGIN:VCALENDAR
VERSION:2.0
PRODID:-//ChamberMaster//Event Calendar 2.0//EN
METHOD:PUBLISH
X-PUBLISHED-TTL:P3D
REFRESH-INTERVAL:P3D
CALSCALE:GREGORIAN
BEGIN:VEVENT
DTSTART:20121208T170000Z
DTEND:20121209T170000Z
X-MICROSOFT-CDO-ALLDAYEVENT:FALSE
SUMMARY:27th Annual Holiday Crafts Faire
DESCRIPTION:The Occidental Community Council is pleased to announce the longstanding tradition of celebration\, local shopping\, feasting\, and chances to win special gifts provided by vendors and local businesses. Admission is free. Highlighting over 35 local and regional artists\, the event will delight your senses. Salmon Creek School students will offer baked goodies\, and delicious menu options will be provided for attendees to enjoy. Proceeds from this annual fundraiser are returned to the community through programs funded by the Community Council.  Vendor Applications are now available.  Deadline is October 19\, 2012
X-ALT-DESC;FMTTYPE=text/html:The Occidental Community Council is pleased to announce the longstanding tradition of celebration\, local shopping\, feasting\, and chances to win special gifts provided by vendors and local businesses. Admission is free. Highlighting over 35 local and regional artists\, the event will delight your senses. Salmon Creek School students will offer baked goodies\, and delicious menu options will be provided for attendees to enjoy. Proceeds from this annual fundraiser are returned to the community through programs funded by the Community Council.  Vendor Applications are now available.  Deadline is October 19\, 2012
LOCATION:Occidental Community Center (located on the corner of Bohemian Highway and Graton Road) in Occidental
UID:e.3189.10619
SEQUENCE:3
DTSTAMP:20260422T040643Z
URL:https://business.sebastopol.org/events/details/27th-annual-holiday-crafts-faire-12-08-2012-10619
END:VEVENT

END:VCALENDAR
