BEGIN:VCALENDAR
VERSION:2.0
PRODID:-//ChamberMaster//Event Calendar 2.0//EN
METHOD:PUBLISH
X-PUBLISHED-TTL:P3D
REFRESH-INTERVAL:P3D
CALSCALE:GREGORIAN
BEGIN:VEVENT
DTSTART:20150131T200000Z
DTEND:20150201T060000Z
X-MICROSOFT-CDO-ALLDAYEVENT:FALSE
SUMMARY:3rd Annual Sebastopol Guitar Festival
DESCRIPTION:The Third Annual Guitar Festival is Saturday January 31st!. Join us for a fabulous full day of\nconcerts\, workshops\, and exhibits. Buy your tickets in advance and pay ONLY $28 FOR AN ALL\nDAY PASS. This very reasonable price gets you two great concerts: a 3pm performance by\nstring wizard Mike Dowling\, with his bottleneck\, blues & swing guitar stylings\, and an 8pm concert\nby our own West Sonoma County guitar master Nina Gerber\, joined by incredible vocalist Chris\nWebster. But this isn't all that a $28 pass includes. Additional mini-concerts are ongoing in the\nMain Hall\, and small group instruction from true guitar masters will be held in two classrooms\nthroughout the day. Take some time to check out the exhibits of hand-crafted guitars\, and join\nthese talented guitar makers as they speak about their craft in afternoon presentations. This is\nthe perfect Saturday outing for those who simply enjoy listening to acoustic music\, and it's also an\nunforgettable experience for those who play guitar themselves\, from beginners to the more\nadvanced. Presented by The Sebastopol Community Cultural Center and Kebtone Productions.\nFood\, wine\, and tasty Lagunitas beer available for purchase.\nAll Day Pass Only $28 in Advance.\nAt the door the price is $40. Still great\, but $28 sounds better!\nDon't miss out. Buy your tickets now!\nLUCKY 100 gets a prize! If you are lucky to have purchased ticket #100\, you will receive the\nbook My First Guitar: Tales of True Love & Lost Chords from 70 Legendary musicians. by Julia\nCrowe!\nSPONSORED BY LAGUNITAS BEER AND KRUSH RADIO!
X-ALT-DESC;FMTTYPE=text/html:The Third Annual Guitar Festival is Saturday January 31st!. Join us for a fabulous full day of\nconcerts\, workshops\, and exhibits. Buy your tickets in advance and pay ONLY $28 FOR AN ALL\nDAY PASS. This very reasonable price gets you two great concerts: a 3pm performance by\nstring wizard Mike Dowling\, with his bottleneck\, blues & swing guitar stylings\, and an 8pm concert\nby our own West Sonoma County guitar master Nina Gerber\, joined by incredible vocalist Chris\nWebster. But this isn't all that a $28 pass includes. Additional mini-concerts are ongoing in the\nMain Hall\, and small group instruction from true guitar masters will be held in two classrooms\nthroughout the day. Take some time to check out the exhibits of hand-crafted guitars\, and join\nthese talented guitar makers as they speak about their craft in afternoon presentations. This is\nthe perfect Saturday outing for those who simply enjoy listening to acoustic music\, and it's also an\nunforgettable experience for those who play guitar themselves\, from beginners to the more\nadvanced. Presented by The Sebastopol Community Cultural Center and Kebtone Productions.\nFood\, wine\, and tasty Lagunitas beer available for purchase.\nAll Day Pass Only $28 in Advance.\nAt the door the price is $40. Still great\, but $28 sounds better!\nDon't miss out. Buy your tickets now!\nLUCKY 100 gets a prize! If you are lucky to have purchased ticket #100\, you will receive the\nbook My First Guitar: Tales of True Love & Lost Chords from 70 Legendary musicians. by Julia\nCrowe!\nSPONSORED BY LAGUNITAS BEER AND KRUSH RADIO!
LOCATION:Sebastopol Community Cultural Center 390 Morris St ~ Sebastopol
UID:e.3189.5042141
SEQUENCE:3
DTSTAMP:20260420T101421Z
URL:https://business.sebastopol.org/events/details/3rd-annual-sebastopol-guitar-festival-01-31-2015-5042141
END:VEVENT

END:VCALENDAR
