BEGIN:VCALENDAR
VERSION:2.0
PRODID:-//ChamberMaster//Event Calendar 2.0//EN
METHOD:PUBLISH
X-PUBLISHED-TTL:P3D
REFRESH-INTERVAL:P3D
CALSCALE:GREGORIAN
BEGIN:VEVENT
DTSTART:20150814T003000Z
DTEND:20150814T023000Z
X-MICROSOFT-CDO-ALLDAYEVENT:FALSE
SUMMARY:4th Annual K-Tech Car Giveaway & BBQ
DESCRIPTION:2 Free Cars Going to 2 Good Homes\n\nJoin us for our 4th Annual Good Karma Free Car Giveaway\nParty & Barbecue at K-Tech Automotive! We're giving away 2 free cars to 2\ndeserving members of our community! One is a fully reconditioned silver 2002\nHonda CRV\, the other is a white 1992 Toyota Corolla\, both including registration\,\nsmog certificate and 1-year service plan.\n\nThis will be a casual\, fun event giving us all a chance to\nmeet the recipients and recognize their contributions to the community. There\nwill a presentation by the mayor\, as well as a raffle for some nice gifts donated\nby local merchants. Light food and refreshments will be provided by Barbecue\nSmokehouse and the presentation of the cars will be at 7:00 p.m.\n\n\n\nPlease RSVP soon to reserve your spot! Space is limited.\nThis is a FREE event and fills up fast! You can RSVP three ways:\n\n\n\n1. Email: kate@ktechautomotive.com with the words Party RSVP in the subject heading.\n\n\n\n2. Our K-Tech Automotive Facebook Invitation.\n\n\n\n3. Our Eventbrite Invitation (non-Facebook users only)\n\n\n\n\n\n\n\nSee you at the party!\n\n\n\nKate Jonasse~ and the K-Tech Team  \n\n\n\nK-Tech Automotive would like to thank these local businesses\nfor their support of the Good Karma Free Car Giveaway\, this year and last\, in\ndonating prizes for the raffle:\n\n\n\nArt & Soul\, BBQ Smokehouse\, Community Market\, Copperfield's Books\,\n\nDansations - DJ/Event Services\, Dyhanna Center\, Eight Cuisine/Sushi Tozai\,\n\nHook & Ladder Winery\, Iron Horse Vineyards\, Laguna Farms\, Mombos Pizza\,\n\nRialto Theater\, Screamin Mimi's\, Sebastopol Cookie Company\,\n\n\n\nSumbody\, 6th Street Playhouse
X-ALT-DESC;FMTTYPE=text/html:<!--  Visual Designer HTML --><p>2 Free Cars Going to 2 Good Homes</p>\n\n<p>Join us for our 4th Annual Good Karma Free Car Giveaway\nParty &amp\; Barbecue at K-Tech Automotive! We&#39\;re giving away 2 free cars to 2\ndeserving members of our community! One is a fully reconditioned silver 2002\nHonda CRV\, the other is a white 1992 Toyota Corolla\, both including registration\,\nsmog certificate and 1-year service plan.</p>\n\n<p>This will be a casual\, fun event giving us all a chance to\nmeet the recipients and recognize their contributions to the community. There\nwill a presentation by the mayor\, as well as a raffle for some nice gifts donated\nby local merchants. Light food and refreshments will be provided by Barbecue\nSmokehouse and the presentation of the cars will be at 7:00 p.m.</p>\n\n\n\n<p>Please RSVP soon to reserve your spot! Space is limited.\nThis is a FREE event and fills up fast! You can RSVP three ways:</p>\n\n\n\n<p>1. Email: kate@ktechautomotive.com with the words Party RSVP in the subject heading.</p>\n\n\n\n<p>2. Our K-Tech Automotive Facebook Invitation.</p>\n\n\n\n<p>3. Our Eventbrite Invitation (non-Facebook users only)</p>\n\n\n\n\n\n\n\n<p>See you at the party!</p>\n\n\n\n<p>Kate Jonasse~ and the K-Tech Team&nbsp\; </p>\n\n\n\n<p>K-Tech Automotive would like to thank these local businesses\nfor their support of the Good Karma Free Car Giveaway\, this year and last\, in\ndonating prizes for the raffle:</p>\n\n\n\n<p>Art &amp\; Soul\, BBQ Smokehouse\, Community Market\, Copperfield&#39\;s Books\,</p>\n\n<p>Dansations - DJ/Event Services\, Dyhanna Center\, Eight Cuisine/Sushi Tozai\,</p>\n\n<p>Hook &amp\; Ladder Winery\, Iron Horse Vineyards\, Laguna Farms\, Mombos Pizza\,</p>\n\n<p>Rialto Theater\, Screamin Mimi&#39\;s\, Sebastopol Cookie Company\,</p>\n\n\n\n<p>Sumbody\, 6th Street Playhouse</p>
LOCATION:K-Tech Good Karma Free Car GiveawayWhere: 198 South High Street\, SebastopolWhen: Thursday\, August 13\, 2015Time: 5:30 - 7:30 p.m.
UID:e.3189.5042693
SEQUENCE:3
DTSTAMP:20260419T223549Z
URL:https://business.sebastopol.org/events/details/4th-annual-k-tech-car-giveaway-bbq-08-13-2015-5042693
END:VEVENT

END:VCALENDAR
