BEGIN:VCALENDAR
VERSION:2.0
PRODID:-//ChamberMaster//Event Calendar 2.0//EN
METHOD:PUBLISH
X-PUBLISHED-TTL:P3D
REFRESH-INTERVAL:P3D
CALSCALE:GREGORIAN
BEGIN:VEVENT
DTSTART:20141213T020000Z
DTEND:20141215T010000Z
X-MICROSOFT-CDO-ALLDAYEVENT:FALSE
SUMMARY:4th Annual Sebastopol Holiday Home Tour and Artisan Boutique
DESCRIPTION:Spend a delightful winter's day touring five decorated homes & historic school in and around scenic Sebastopol\, CA\, in the heart of Sonoma County wine country. Each location displays holiday spirit in its own unique way\, showcasing collections and family traditions. Artisan Boutique offers dozens of local Sonoma County artists and crafters. Boutique is free. Tour ticket prices are $10-$40. Proceeds benefit Scholarship fund at Pleasant Hill Christian School\, Sebastopol\, CA. For info\, photos\, and tickets visit www.sebastopolholidayhometour.com\n\nWhen:\nSaturday\, Dec. 13\, 2014\nNight tour Friday\, December 12\, 2014.\n\n\nWhere:\nTour in and around Sebastopol\, CA\n\nPleasant Hill Christian School\n1782 Pleasant Hill Rd.\nSebastopol\, CA 95472\n\nFor info and tickets:\nhttp://sebastopolholidayhometour.com\nsebastopolholidayhometour@gmail.com\n707-829-1729\n\nCost: $0-$40
X-ALT-DESC;FMTTYPE=text/html:Spend a delightful winter's day touring five decorated homes & historic school in and around scenic Sebastopol\, CA\, in the heart of Sonoma County wine country. Each location displays holiday spirit in its own unique way\, showcasing collections and family traditions. Artisan Boutique offers dozens of local Sonoma County artists and crafters. Boutique is free. Tour ticket prices are $10-$40. Proceeds benefit Scholarship fund at Pleasant Hill Christian School\, Sebastopol\, CA. For info\, photos\, and tickets visit www.sebastopolholidayhometour.com\n\nWhen:\nSaturday\, Dec. 13\, 2014\nNight tour Friday\, December 12\, 2014.\n\n\nWhere:\nTour in and around Sebastopol\, CA\n\nPleasant Hill Christian School\n1782 Pleasant Hill Rd.\nSebastopol\, CA 95472\n\nFor info and tickets:\nhttp://sebastopolholidayhometour.com\nsebastopolholidayhometour@gmail.com\n707-829-1729\n\nCost: $0-$40
LOCATION:Pleasant Hill Christian School 1782 Pleasant Hill Rd. Sebastopol\, CA 95472
UID:e.3189.5041600
SEQUENCE:3
DTSTAMP:20260422T100808Z
URL:https://business.sebastopol.org/events/details/4th-annual-sebastopol-holiday-home-tour-and-artisan-boutique-12-12-2014-5041600
END:VEVENT

END:VCALENDAR
