BEGIN:VCALENDAR
VERSION:2.0
PRODID:-//ChamberMaster//Event Calendar 2.0//EN
METHOD:PUBLISH
X-PUBLISHED-TTL:P3D
REFRESH-INTERVAL:P3D
CALSCALE:GREGORIAN
BEGIN:VEVENT
DTSTART:20130324T210000Z
DTEND:20130325T000000Z
X-MICROSOFT-CDO-ALLDAYEVENT:FALSE
SUMMARY:A Heart Greater than Fear: My Life in Woman Suffrage
DESCRIPTION:Sunday\, March 24th at 2pm. "A Heart Greater Than Fear\; My Life in Woman Suffrage" performed by Rosemary Quinn. In Honor of Women's History Month\, OCA presents this original portrayal of women's right's pioneer\, Elizabeth Cady Stanton. Genereal admission: $15. (No one turned away at door). Wine/beer and refreshments for sale. OCA is located at 3850 Doris Murphy COurt\, Bohemian Hwy at Graton Rd and is wheelchair accessible. For more information: 707-874-9392 or occidentalcenterforthearts.com
X-ALT-DESC;FMTTYPE=text/html:Sunday\, March 24th at 2pm. "A Heart Greater Than Fear\; My Life in Woman Suffrage" performed by Rosemary Quinn. In Honor of Women's History Month\, OCA presents this original portrayal of women's right's pioneer\, Elizabeth Cady Stanton. Genereal admission: $15. (No one turned away at door). Wine/beer and refreshments for sale. OCA is located at 3850 Doris Murphy COurt\, Bohemian Hwy at Graton Rd and is wheelchair accessible. For more information: 707-874-9392 or occidentalcenterforthearts.com
LOCATION:3850 Doris Murphy Court Bohemian Hwy at Graton Rd.
UID:e.3189.5040430
SEQUENCE:3
DTSTAMP:20260421T233150Z
URL:https://business.sebastopol.org/events/details/a-heart-greater-than-fear-my-life-in-woman-suffrage-03-24-2013-5040430
END:VEVENT

END:VCALENDAR
