BEGIN:VCALENDAR
VERSION:2.0
PRODID:-//ChamberMaster//Event Calendar 2.0//EN
METHOD:PUBLISH
X-PUBLISHED-TTL:P3D
REFRESH-INTERVAL:P3D
CALSCALE:GREGORIAN
BEGIN:VEVENT
DTSTART:20130301T080000Z
DTEND:20130303T080000Z
X-MICROSOFT-CDO-ALLDAYEVENT:FALSE
SUMMARY:''A Taste of West Sonoma County'' at Dutton-Goldfield Winery
DESCRIPTION:Want to come up to Wine Country in early March but don’t want to deal with the crowds of Barrel Tasting Weekend? Come visit Dutton-Goldfield Winery\, Iron Horse Winery\, Hartford Family Winery and Marimar Estate for “A Taste of West Sonoma County.” Dutton-Goldfield Winery will be offering a relaxed and personalized tasting those weekends with a few gems from our library and some of our limited single-vineyard Pinots. You will also enjoy our expanded sensory experience while learning about our Green Valley home. Reserve flight is $25\, waived with 6 bottle purchase.
X-ALT-DESC;FMTTYPE=text/html:Want to come up to Wine Country in early March but don’t want to deal with the crowds of Barrel Tasting Weekend? Come visit Dutton-Goldfield Winery\, Iron Horse Winery\, Hartford Family Winery and Marimar Estate for “A Taste of West Sonoma County.” Dutton-Goldfield Winery will be offering a relaxed and personalized tasting those weekends with a few gems from our library and some of our limited single-vineyard Pinots. You will also enjoy our expanded sensory experience while learning about our Green Valley home. Reserve flight is $25\, waived with 6 bottle purchase.
LOCATION:Dutton-Goldfield Winery 3100 Gravenstein Hwy North Sebastopol CA 95472
UID:e.3189.5040433
SEQUENCE:3
DTSTAMP:20260421T233015Z
URL:https://business.sebastopol.org/events/details/a-taste-of-west-sonoma-county-at-dutton-goldfield-winery-03-01-2013-5040433
END:VEVENT

END:VCALENDAR
