BEGIN:VCALENDAR
VERSION:2.0
PRODID:-//ChamberMaster//Event Calendar 2.0//EN
METHOD:PUBLISH
X-PUBLISHED-TTL:P3D
REFRESH-INTERVAL:P3D
CALSCALE:GREGORIAN
BEGIN:VEVENT
DTSTART:20150215T040000Z
DTEND:20150215T070000Z
X-MICROSOFT-CDO-ALLDAYEVENT:FALSE
SUMMARY:A Valentines Evening
DESCRIPTION:Laugh along with madcap musical comedienne Tudury’s original\, quirky novelty tunes and off-beat torch songs about L-O-V-E  and life\; delivered in her powerful voice with a good dash of scathing wit and bluesy guitar accompaniment. $20 General includes one complimentary glass of champagne. Fine Refreshments for sale. Cabaret & concert seating.Wheelchair accessible. Reservations advised. 707-874-9392.
X-ALT-DESC;FMTTYPE=text/html:Laugh along with madcap musical comedienne Tudury’s original\, quirky novelty tunes and off-beat torch songs about L-O-V-E  and life\; delivered in her powerful voice with a good dash of scathing wit and bluesy guitar accompaniment. $20 General includes one complimentary glass of champagne. Fine Refreshments for sale. Cabaret & concert seating.Wheelchair accessible. Reservations advised. 707-874-9392.
LOCATION:Occidental Center for the Arts Bohemian Hwy.@ Graton Rd. Occidental
UID:e.3189.31574
SEQUENCE:3
DTSTAMP:20260420T065637Z
URL:https://business.sebastopol.org/events/details/a-valentines-evening-02-14-2015-31574
END:VEVENT

END:VCALENDAR
