BEGIN:VCALENDAR
VERSION:2.0
PRODID:-//ChamberMaster//Event Calendar 2.0//EN
METHOD:PUBLISH
X-PUBLISHED-TTL:P3D
REFRESH-INTERVAL:P3D
CALSCALE:GREGORIAN
BEGIN:VEVENT
DTSTART:20150502T210000Z
DTEND:20150502T220000Z
X-MICROSOFT-CDO-ALLDAYEVENT:FALSE
SUMMARY:Adult Reader's Theater
DESCRIPTION:Read great plays -- no acting experience needed and no stage fright.  For adults.
X-ALT-DESC;FMTTYPE=text/html:Read great plays -- no acting experience needed and no stage fright.  For adults.
LOCATION:Sebastopol Regional Library 7140 Bodega Avenue\, Sebastopol
UID:e.3189.5042348
SEQUENCE:3
DTSTAMP:20260420T040928Z
URL:https://business.sebastopol.org/events/details/adult-reader-s-theater-05-02-2015-5042348
END:VEVENT

END:VCALENDAR
