BEGIN:VCALENDAR
VERSION:2.0
PRODID:-//ChamberMaster//Event Calendar 2.0//EN
METHOD:PUBLISH
X-PUBLISHED-TTL:P3D
REFRESH-INTERVAL:P3D
CALSCALE:GREGORIAN
BEGIN:VEVENT
DTSTART:20150529T230000Z
DTEND:20150530T000000Z
X-MICROSOFT-CDO-ALLDAYEVENT:FALSE
SUMMARY:African American folk Tales with Kirk Waller
DESCRIPTION:Join us and celebrate African American folktales told by storyteller extraordinaire\, Kirk Waller.  Children ages 5 and up are welcom.
X-ALT-DESC;FMTTYPE=text/html:Join us and celebrate African American folktales told by storyteller extraordinaire\, Kirk Waller.  Children ages 5 and up are welcom.
LOCATION:Sebastopol Regional Library 7140 Bodega Avenue\, Sebastopol
UID:e.3189.5042366
SEQUENCE:3
DTSTAMP:20260420T023657Z
URL:https://business.sebastopol.org/events/details/african-american-folk-tales-with-kirk-waller-05-29-2015-5042366
END:VEVENT

END:VCALENDAR
