BEGIN:VCALENDAR
VERSION:2.0
PRODID:-//ChamberMaster//Event Calendar 2.0//EN
METHOD:PUBLISH
X-PUBLISHED-TTL:P3D
REFRESH-INTERVAL:P3D
CALSCALE:GREGORIAN
BEGIN:VEVENT
DTSTART:20150418T170000Z
DTEND:20150420T000000Z
X-MICROSOFT-CDO-ALLDAYEVENT:FALSE
SUMMARY:APPLE BLOSSOM FESTIVAL AND PARADE
DESCRIPTION:2 day festival featuring music\, crafts\, food\, wine\, beer\, children's fair and art show \nBlues Festival on Sunday \nAdmission: Adults $10 in advance\, $12 at gate\; students 11-17 $6 in advance\, $8 at gate\, Children 10 and under FREE\nNo pets allowed \nFor full line up and activities see the official festival website\nwww.appleblossomfest.com
X-ALT-DESC;FMTTYPE=text/html:2 day festival featuring music\, crafts\, food\, wine\, beer\, children's fair and art show \nBlues Festival on Sunday \nAdmission: Adults $10 in advance\, $12 at gate\; students 11-17 $6 in advance\, $8 at gate\, Children 10 and under FREE\nNo pets allowed \nFor full line up and activities see the official festival website\nwww.appleblossomfest.com
LOCATION:Parade down Main St. at 10am on Saturday Festival at Ives Park and the Sebastopol Center for the Arts at 282 High St. Sebastopol
UID:e.3189.32061
SEQUENCE:3
DTSTAMP:20260420T053655Z
URL:https://business.sebastopol.org/events/details/apple-blossom-festival-and-parade-04-18-2015-32061
END:VEVENT

END:VCALENDAR
