BEGIN:VCALENDAR
VERSION:2.0
PRODID:-//ChamberMaster//Event Calendar 2.0//EN
METHOD:PUBLISH
X-PUBLISHED-TTL:P3D
REFRESH-INTERVAL:P3D
CALSCALE:GREGORIAN
BEGIN:VEVENT
DTSTART:20150419T170000Z
DTEND:20150420T003000Z
X-MICROSOFT-CDO-ALLDAYEVENT:FALSE
SUMMARY:Apple Blossom Festival and Parade
DESCRIPTION:Welcome to the 69th Annual Apple Blossom Festival and Parade! "A Magical Time"  This event is hosted and organized by the Sebastopol Chamber of Commerce and Visitor Center with the support of many local businesses. We hope you enjoy the Festival weekend!!!
X-ALT-DESC;FMTTYPE=text/html:Welcome to the 69th Annual Apple Blossom Festival and Parade! "A Magical Time"  This event is hosted and organized by the Sebastopol Chamber of Commerce and Visitor Center with the support of many local businesses. We hope you enjoy the Festival weekend!!!
LOCATION:Ives Park (on Jewell Ave. and Willow St.) and the Sebastopol Center for the Arts at the Veterans Memorial Building\, 282 High St. Sebastopol\, CA 95472
UID:e.3189.32510
SEQUENCE:3
DTSTAMP:20260420T041104Z
URL:https://business.sebastopol.org/events/details/apple-blossom-festival-and-parade-04-19-2015-32510
END:VEVENT

END:VCALENDAR
