BEGIN:VCALENDAR
VERSION:2.0
PRODID:-//ChamberMaster//Event Calendar 2.0//EN
METHOD:PUBLISH
X-PUBLISHED-TTL:P3D
REFRESH-INTERVAL:P3D
CALSCALE:GREGORIAN
BEGIN:VEVENT
DTSTART:20150418T170000Z
DTEND:20150420T000000Z
X-MICROSOFT-CDO-ALLDAYEVENT:FALSE
SUMMARY:Apple Blossom Festival Art Show
DESCRIPTION:The Apple Blossom Festival Art Show has a long tradition in Sebastopol.  With more than 100 new paintings\, drawings and photographs ranging from rural landscapes to experimental abstracts\, there is something for every family and visitor to enjoy.    \nA feature of this year’s exhibition is the section of “small works\,” original art donated by the artists and priced from $50- $100.  There is a special joy to owning original art\, and this is a great opportunity to start or add to your collection.\n\nBay Area artist Sandra Speidel is the judge for the art show\, and visitors will also be invited to cast votes for their favorites.\n\nThe Apple Blossom Art Show is the annual members’ exhibition of the Art Workshop of Western Sonoma County (AWS).  This year marks the 50th anniversary of the founding of AWS.  Come join the celebration!
X-ALT-DESC;FMTTYPE=text/html:The Apple Blossom Festival Art Show has a long tradition in Sebastopol.  With more than 100 new paintings\, drawings and photographs ranging from rural landscapes to experimental abstracts\, there is something for every family and visitor to enjoy.    \nA feature of this year’s exhibition is the section of “small works\,” original art donated by the artists and priced from $50- $100.  There is a special joy to owning original art\, and this is a great opportunity to start or add to your collection.\n\nBay Area artist Sandra Speidel is the judge for the art show\, and visitors will also be invited to cast votes for their favorites.\n\nThe Apple Blossom Art Show is the annual members’ exhibition of the Art Workshop of Western Sonoma County (AWS).  This year marks the 50th anniversary of the founding of AWS.  Come join the celebration!
LOCATION:Veterans Memorial Auditorium 282 S. High St. Sebastopol\, CA 95472
UID:e.3189.5042254
SEQUENCE:3
DTSTAMP:20260420T055802Z
URL:https://business.sebastopol.org/events/details/apple-blossom-festival-art-show-04-18-2015-5042254
END:VEVENT

END:VCALENDAR
