BEGIN:VCALENDAR
VERSION:2.0
PRODID:-//ChamberMaster//Event Calendar 2.0//EN
METHOD:PUBLISH
X-PUBLISHED-TTL:P3D
REFRESH-INTERVAL:P3D
CALSCALE:GREGORIAN
BEGIN:VEVENT
DTSTART:20150418T020000Z
DTEND:20150418T040000Z
X-MICROSOFT-CDO-ALLDAYEVENT:FALSE
SUMMARY:Apple Blossom Festival Art Show Reception
DESCRIPTION:Artist reception for the Apple Blossom Festival Art Show\, the annual members' show of the Art Workshop of Western Sonoma County.  More than 100 new paintings\, drawings and photographs on view.  Appetizers and wine\; free admission.
X-ALT-DESC;FMTTYPE=text/html:Artist reception for the Apple Blossom Festival Art Show\, the annual members' show of the Art Workshop of Western Sonoma County.  More than 100 new paintings\, drawings and photographs on view.  Appetizers and wine\; free admission.
LOCATION:Sebastopol Veterans Memorial Auditorium 282 S. High St. Sebastopol\, CA 95472
UID:e.3189.5042251
SEQUENCE:3
DTSTAMP:20260420T040301Z
URL:https://business.sebastopol.org/events/details/apple-blossom-festival-art-show-reception-04-17-2015-5042251
END:VEVENT

END:VCALENDAR
