BEGIN:VCALENDAR
VERSION:2.0
PRODID:-//ChamberMaster//Event Calendar 2.0//EN
METHOD:PUBLISH
X-PUBLISHED-TTL:P3D
REFRESH-INTERVAL:P3D
CALSCALE:GREGORIAN
BEGIN:VEVENT
DTSTART:20160121T020000Z
DTEND:20160121T034500Z
X-MICROSOFT-CDO-ALLDAYEVENT:FALSE
SUMMARY:ARCs and Recreation Book Club
DESCRIPTION:Read new books before they are released to the public! Choose from a selection of ARCs (Advance Reading Copies)  and share your opinion about the book with the group. Would you recommend it to others? Do you think it has the potential to become a bestseller? Should the library order multiple copies? Help new books find an audience while you connect with other readers and community members.  Snacks will be provided.
X-ALT-DESC;FMTTYPE=text/html:<!--  Visual Designer HTML --><span style="color: #2d2319\; font-size: 16px\; line-height: 25.6px\; background-color: #ffffff">Read new books before they are released to the public! Choose from a selection of ARCs (Advance Reading Copies) &nbsp\;and share your opinion about the book with the group. Would you recommend it to others? Do you think it has the potential to become a bestseller? Should the library order multiple copies? Help new books find an audience while you connect with other readers and community members. &nbsp\;Snacks will be provided. </span>
LOCATION:Sebastopol Regional LibraryEvent Address:7140 Bodega AvenueSebastopol\, CA 95472
UID:e.3189.5042984
SEQUENCE:3
DTSTAMP:20260419T125216Z
URL:https://business.sebastopol.org/events/details/arcs-and-recreation-book-club-01-20-2016-5042984
END:VEVENT

END:VCALENDAR
