BEGIN:VCALENDAR
VERSION:2.0
PRODID:-//ChamberMaster//Event Calendar 2.0//EN
METHOD:PUBLISH
X-PUBLISHED-TTL:P3D
REFRESH-INTERVAL:P3D
CALSCALE:GREGORIAN
BEGIN:VEVENT
DTSTART:20150808T170000Z
DTEND:20150810T010000Z
X-MICROSOFT-CDO-ALLDAYEVENT:FALSE
SUMMARY:Art at the Gravenstein Apple Fair
DESCRIPTION:Are you looking for something special to grace the walls of your home or office?  Come to the Gravenstein Apple Fair in Sebastopol’s Ragle Ranch Park\, August 8-9\, and choose from a large selection of paintings\, prints and photographs by members of the Art Workshop of Western Sonoma County (AWS). More than a dozen artists will be on hand to discuss their work and demonstrate techniques.  Enjoy great music while you browse the art show. Check the Gravenstein Apple Fair website at www.gravensteinapplefair.com for hours\, directions\, admission and parking details. For more information about the AWS artists’ association\, visit the website at www.awsomeart.org .
X-ALT-DESC;FMTTYPE=text/html:<!--  Visual Designer HTML --><span style="font-size: 12pt">Are you looking for something special to grace the walls of your home or office? &nbsp\;Come to the Gravenstein Apple Fair in Sebastopol’s Ragle Ranch Park\, August 8-9\, and choose from a large selection of paintings\, prints and photographs by members of the Art Workshop of Western Sonoma County (AWS).&nbsp\;More than a dozen artists will be on hand to discuss their work and demonstrate techniques. &nbsp\;Enjoy great music while you browse the art show.&nbsp\;Check the Gravenstein Apple Fair website at&nbsp\;<a href="http://www.gravensteinapplefair.com"><b>www.gravensteinapplefair.com</b></a></span><b> </b><span style="font-size: 12pt">for hours\, directions\, admission and parking details.&nbsp\;For more information about the AWS artists’ association\, visit the website at&nbsp\;</span><span style="font-size: 12pt"><a href="http://www.awsomeart.org"><b>www.awsomeart.org</b></a></span><span style="font-size: 12pt"> .</span>&nbsp\; &nbsp\;&nbsp\;
LOCATION:Ragle Ranch Park500 Ragle RoadSebastopol\, CA 95472
UID:e.3189.5042696
SEQUENCE:3
DTSTAMP:20260419T212657Z
URL:https://business.sebastopol.org/events/details/art-at-the-gravenstein-apple-fair-08-08-2015-5042696
END:VEVENT

END:VCALENDAR
