BEGIN:VCALENDAR
VERSION:2.0
PRODID:-//ChamberMaster//Event Calendar 2.0//EN
METHOD:PUBLISH
X-PUBLISHED-TTL:P3D
REFRESH-INTERVAL:P3D
CALSCALE:GREGORIAN
BEGIN:VEVENT
DTSTART:20150319T200000Z
DTEND:20150319T220000Z
X-MICROSOFT-CDO-ALLDAYEVENT:FALSE
SUMMARY:Art Workshop of Western Sonoma County
DESCRIPTION:Donna DeLaBriandais will be the guest artist at the Art Workshop of Western Sonoma County (AWS) on March 19.  Donna will demonstrate her spontaneous\, impressionist style of oil painting.  We’re anticipating a great demo from this accomplished artist and popular teacher. The general meeting begins at 12:00 noon and the demo starts at 1:00 p.m.  Guests are welcome\; a $5 donation is requested.
X-ALT-DESC;FMTTYPE=text/html:Donna DeLaBriandais will be the guest artist at the Art Workshop of Western Sonoma County (AWS) on March 19.  Donna will demonstrate her spontaneous\, impressionist style of oil painting.  We’re anticipating a great demo from this accomplished artist and popular teacher. The general meeting begins at 12:00 noon and the demo starts at 1:00 p.m.  Guests are welcome\; a $5 donation is requested.
LOCATION:Sebastopol Center for the Arts 282 S. High St. Sebastopol\, CA 95472
UID:e.3189.5042227
SEQUENCE:3
DTSTAMP:20260420T070630Z
URL:https://business.sebastopol.org/events/details/art-workshop-of-western-sonoma-county-03-19-2015-5042227
END:VEVENT

END:VCALENDAR
