BEGIN:VCALENDAR
VERSION:2.0
PRODID:-//ChamberMaster//Event Calendar 2.0//EN
METHOD:PUBLISH
X-PUBLISHED-TTL:P3D
REFRESH-INTERVAL:P3D
CALSCALE:GREGORIAN
BEGIN:VEVENT
DTSTART:20121208T180000Z
DTEND:20121210T010000Z
X-MICROSOFT-CDO-ALLDAYEVENT:FALSE
SUMMARY:ARTISAN BOUTIQUE
DESCRIPTION:Open to the public Saturday & Sunday\, Dec. 8-9\, 10-5. Our school is on the way to and from dozens of Christmas Tree Farms and Twin Hill Ranch which offers many great apple products.  Below is a sample of our many Artisans  Dennis Bolt ~ Maggie Bolt ~ Ratzlaff Ranch ~ Jen Benedetti Carole Peoples ~ Dan Allingham ~ Donna Cochran ~ Sandra Santana Chuck Taylor ~ Naomi Sample  ~ Babetta/Philip Wilson ~ Patti deJong  Claudia Kvamme ~ Lucy Kunz  ~ Working Hands  ~ Viveca Murphy
X-ALT-DESC;FMTTYPE=text/html:Open to the public Saturday & Sunday\, Dec. 8-9\, 10-5. Our school is on the way to and from dozens of Christmas Tree Farms and Twin Hill Ranch which offers many great apple products.  Below is a sample of our many Artisans  Dennis Bolt ~ Maggie Bolt ~ Ratzlaff Ranch ~ Jen Benedetti Carole Peoples ~ Dan Allingham ~ Donna Cochran ~ Sandra Santana Chuck Taylor ~ Naomi Sample  ~ Babetta/Philip Wilson ~ Patti deJong  Claudia Kvamme ~ Lucy Kunz  ~ Working Hands  ~ Viveca Murphy
LOCATION:Pleasant Hill Christian School 1782 Pleasant Hill Rd.\, Sebastopol\, CA 95472.
UID:e.3189.11242
SEQUENCE:3
DTSTAMP:20260422T043321Z
URL:https://business.sebastopol.org/events/details/artisan-boutique-12-08-2012-11242
END:VEVENT

END:VCALENDAR
