BEGIN:VCALENDAR
VERSION:2.0
PRODID:-//ChamberMaster//Event Calendar 2.0//EN
METHOD:PUBLISH
X-PUBLISHED-TTL:P3D
REFRESH-INTERVAL:P3D
CALSCALE:GREGORIAN
BEGIN:VEVENT
DTSTART:20130519T200000Z
DTEND:20130519T220000Z
X-MICROSOFT-CDO-ALLDAYEVENT:FALSE
SUMMARY:Artist Reception - Bert Kaplan
DESCRIPTION:Bert Kaplan will be showing his art from May 14th- July 16th\, and we’ll be hosting his Artist Reception on May 19th from 1pm-3pm. Stop by and meet the artist and see his beautiful work while enjoy a glass of wine. Bert says about his art: “My paintings arise out of a lifelong fascination with the world of nature. As a child\, I was continually making collections of flowers\, leaves\, rocks\, etc.\, much to the consternation of my mother who could never quite understand her son’s preoccupation. Now\, it is the love of looking at and experiencing viscerally the beauty that surrounds us\, and the need to express and share those emotional experiences that fuel my work.  ‘In beauty there is truth.’”
X-ALT-DESC;FMTTYPE=text/html:Bert Kaplan will be showing his art from May 14th- July 16th\, and we’ll be hosting his Artist Reception on May 19th from 1pm-3pm. Stop by and meet the artist and see his beautiful work while enjoy a glass of wine. Bert says about his art: “My paintings arise out of a lifelong fascination with the world of nature. As a child\, I was continually making collections of flowers\, leaves\, rocks\, etc.\, much to the consternation of my mother who could never quite understand her son’s preoccupation. Now\, it is the love of looking at and experiencing viscerally the beauty that surrounds us\, and the need to express and share those emotional experiences that fuel my work.  ‘In beauty there is truth.’”
LOCATION:Dutton-Goldfield Winery\, 3100 Gravenstein Hwy North\, Sebastopol\, CA. 95472
UID:e.3189.5040643
SEQUENCE:3
DTSTAMP:20260421T203141Z
URL:https://business.sebastopol.org/events/details/artist-reception-bert-kaplan-05-19-2013-5040643
END:VEVENT

END:VCALENDAR
