BEGIN:VCALENDAR
VERSION:2.0
PRODID:-//ChamberMaster//Event Calendar 2.0//EN
METHOD:PUBLISH
X-PUBLISHED-TTL:P3D
REFRESH-INTERVAL:P3D
CALSCALE:GREGORIAN
BEGIN:VEVENT
DTSTART:20141116T210000Z
DTEND:20141116T230000Z
X-MICROSOFT-CDO-ALLDAYEVENT:FALSE
SUMMARY:Artist Reception - Victoria Kochergen
DESCRIPTION:Victoria produces gorgeous and detailed botanical drawings with colored pencil\, and her work will be on display in our tasting room from November 12 through January 13. We’ll host an artist reception for her on Sunday\, November 16\, from 1-3pm.
X-ALT-DESC;FMTTYPE=text/html:Victoria produces gorgeous and detailed botanical drawings with colored pencil\, and her work will be on display in our tasting room from November 12 through January 13. We’ll host an artist reception for her on Sunday\, November 16\, from 1-3pm.
LOCATION:Dutton-Goldfield Winery 3100 Gravenstein Hwy North Sebastopol\, CA. 95472
UID:e.3189.5041445
SEQUENCE:3
DTSTAMP:20260420T131633Z
URL:https://business.sebastopol.org/events/details/artist-reception-victoria-kochergen-11-16-2014-5041445
END:VEVENT

END:VCALENDAR
