BEGIN:VCALENDAR
VERSION:2.0
PRODID:-//ChamberMaster//Event Calendar 2.0//EN
METHOD:PUBLISH
X-PUBLISHED-TTL:P3D
REFRESH-INTERVAL:P3D
CALSCALE:GREGORIAN
BEGIN:VEVENT
DTSTART:20121013T170000Z
DTEND:20121015T000000Z
X-MICROSOFT-CDO-ALLDAYEVENT:FALSE
SUMMARY:ARTrails Open Studios 2012 Oct 13-14 & 20-21
DESCRIPTION:Hit the Trail\, October is ARTrails time!  The format is familiar: Grab an ARTrails catalog with maps and spend a day or two sampling some of the very best art Sonoma County has to offer. Drive the country lanes\, coastal highways\, and pastoral vistas or the urban centers of Sonoma County on this self-guided free tour. ARTrails provides that rare glimpse into the artist’s studio. This is the chance to add to or begin your personal collection as you purchase art directly from the artists in their own environments.
X-ALT-DESC;FMTTYPE=text/html:Hit the Trail\, October is ARTrails time!  The format is familiar: Grab an ARTrails catalog with maps and spend a day or two sampling some of the very best art Sonoma County has to offer. Drive the country lanes\, coastal highways\, and pastoral vistas or the urban centers of Sonoma County on this self-guided free tour. ARTrails provides that rare glimpse into the artist’s studio. This is the chance to add to or begin your personal collection as you purchase art directly from the artists in their own environments.
LOCATION:Throughout Sonoma County
UID:e.3189.10473
SEQUENCE:3
DTSTAMP:20260422T071110Z
URL:https://business.sebastopol.org/events/details/artrails-open-studios-2012-oct-13-14-20-21-10-13-2012-10473
END:VEVENT

END:VCALENDAR
