BEGIN:VCALENDAR
VERSION:2.0
PRODID:-//ChamberMaster//Event Calendar 2.0//EN
METHOD:PUBLISH
X-PUBLISHED-TTL:P3D
REFRESH-INTERVAL:P3D
CALSCALE:GREGORIAN
BEGIN:VEVENT
DTSTART:20121013T000000Z
DTEND:20121014T010000Z
X-MICROSOFT-CDO-ALLDAYEVENT:FALSE
SUMMARY:Barbara Bull Memorial Cemetery Walk
DESCRIPTION:Sebastopol women's stories come to life with Cemetery Walk  The 10th annual Barbara Bull Memorial Cemetery Walk on Friday and Saturday October 12 and 13\, 2012.  Vignettes presented this year will be stories of a woman aviator\, our first librarian\, a mayor's daughter from 1906\, Sebastopol's woman city clerk\, a woman who witnessed Queen Victoria's coronation and a woman journalist.  The event includes dinner\, cemetery walk with six performances of historical vignettes and dessert and coffee at the historic Luther Burbank Experiment Farm Cottage adjacent to Sebastopol Memorial Lawn Cemetery.  Tour ticket prices range from $25-30 depending on tour times. For Reservations call  707-823-0884 or 707-829-1757
X-ALT-DESC;FMTTYPE=text/html:Sebastopol women's stories come to life with Cemetery Walk  The 10th annual Barbara Bull Memorial Cemetery Walk on Friday and Saturday October 12 and 13\, 2012.  Vignettes presented this year will be stories of a woman aviator\, our first librarian\, a mayor's daughter from 1906\, Sebastopol's woman city clerk\, a woman who witnessed Queen Victoria's coronation and a woman journalist.  The event includes dinner\, cemetery walk with six performances of historical vignettes and dessert and coffee at the historic Luther Burbank Experiment Farm Cottage adjacent to Sebastopol Memorial Lawn Cemetery.  Tour ticket prices range from $25-30 depending on tour times. For Reservations call  707-823-0884 or 707-829-1757
LOCATION:Luther Burbank Experiment Farm Cottage adjacent to Sebastopol Memorial Lawn Cemetery
UID:e.3189.10465
SEQUENCE:3
DTSTAMP:20260422T071225Z
URL:https://business.sebastopol.org/events/details/barbara-bull-memorial-cemetery-walk-10-12-2012-10465
END:VEVENT

END:VCALENDAR
