BEGIN:VCALENDAR
VERSION:2.0
PRODID:-//ChamberMaster//Event Calendar 2.0//EN
METHOD:PUBLISH
X-PUBLISHED-TTL:P3D
REFRESH-INTERVAL:P3D
CALSCALE:GREGORIAN
BEGIN:VEVENT
DTSTART:20141101T180000Z
DTEND:20141101T230000Z
X-MICROSOFT-CDO-ALLDAYEVENT:FALSE
SUMMARY:Bay Area Science Festival Discovery Days North Bay
DESCRIPTION:The concluding event of the Bay Area Science Festival for the North Bay- a FREE science extravaganza that's too big for just one side of the Golden Gate Bridge! Last year\, more than 40\,000 people enjoyed a non-stop program chock-full of interactive exhibits\, experiments\, games\, and shows\, all meant to entertain and inspire in San Francisco. This year\, come and unleash your inner scientist at the Sonoma County Fairgrounds.
X-ALT-DESC;FMTTYPE=text/html:The concluding event of the Bay Area Science Festival for the North Bay- a FREE science extravaganza that's too big for just one side of the Golden Gate Bridge! Last year\, more than 40\,000 people enjoyed a non-stop program chock-full of interactive exhibits\, experiments\, games\, and shows\, all meant to entertain and inspire in San Francisco. This year\, come and unleash your inner scientist at the Sonoma County Fairgrounds.
LOCATION:Sonoma County Fairgrounds\, 1350 Bennett Valley Road\, Santa Rosa\, CA 95404
UID:e.3189.5041628
SEQUENCE:3
DTSTAMP:20260420T115114Z
URL:https://business.sebastopol.org/events/details/bay-area-science-festival-discovery-days-north-bay-11-01-2014-5041628
END:VEVENT

END:VCALENDAR
