BEGIN:VCALENDAR
VERSION:2.0
PRODID:-//ChamberMaster//Event Calendar 2.0//EN
METHOD:PUBLISH
X-PUBLISHED-TTL:P3D
REFRESH-INTERVAL:P3D
CALSCALE:GREGORIAN
BEGIN:VEVENT
DTSTART:20150531T003000Z
DTEND:20150531T050000Z
X-MICROSOFT-CDO-ALLDAYEVENT:FALSE
SUMMARY:BBQ\, Brews\, & BarnDance
DESCRIPTION:Talk about fun! After the Meet Your Farmer Cheese and Brews reception and locally sourced meal prepared by Chef Daniel Kedan and Marianna Gardenhire of Backyard\, there will be a silent auction\, bonfire and good old-fashioned foot stompin’ to the music of the Cahoots\, a Sonoma County favorite.  Tickets are $75 and are available at Brown Paper Tickets. \n\nPresented by Sonoma County Farm Trails (www.farmtrails.org). Proceeds from the BarnDance will help to produce the 42nd Annual Gravenstein Apple Fair.
X-ALT-DESC;FMTTYPE=text/html:Talk about fun! After the Meet Your Farmer Cheese and Brews reception and locally sourced meal prepared by Chef Daniel Kedan and Marianna Gardenhire of Backyard\, there will be a silent auction\, bonfire and good old-fashioned foot stompin’ to the music of the Cahoots\, a Sonoma County favorite.  Tickets are $75 and are available at Brown Paper Tickets. \n\nPresented by Sonoma County Farm Trails (www.farmtrails.org). Proceeds from the BarnDance will help to produce the 42nd Annual Gravenstein Apple Fair.
LOCATION:Dutton Ranch 10717 Graton Road Sebastopol\, CA 95472
UID:e.3189.5042295
SEQUENCE:3
DTSTAMP:20260420T022427Z
URL:https://business.sebastopol.org/events/details/bbq-brews-barndance-05-30-2015-5042295
END:VEVENT

END:VCALENDAR
