BEGIN:VCALENDAR
VERSION:2.0
PRODID:-//ChamberMaster//Event Calendar 2.0//EN
METHOD:PUBLISH
X-PUBLISHED-TTL:P3D
REFRESH-INTERVAL:P3D
CALSCALE:GREGORIAN
BEGIN:VEVENT
DTSTART:20150329T020000Z
DTEND:20150329T050000Z
X-MICROSOFT-CDO-ALLDAYEVENT:FALSE
SUMMARY:Beatles Sing Along
DESCRIPTION:Join the fun as we sing along to your favorite Beatles Songs and other British Invasions! Other special guests include: Frank Hayhurst\, Kevin Russell\, Steve Barbieri\, Sherry Jones\, the Love Choir and more!! Brought to you by Mr. Music and the Sebastopol Community Cultural Center.
X-ALT-DESC;FMTTYPE=text/html:Join the fun as we sing along to your favorite Beatles Songs and other British Invasions! Other special guests include: Frank Hayhurst\, Kevin Russell\, Steve Barbieri\, Sherry Jones\, the Love Choir and more!! Brought to you by Mr. Music and the Sebastopol Community Cultural Center.
LOCATION:Sebastopol Community Cultural Center 390 Morris Street Sebastopol\, CA. 95472
UID:e.3189.5042239
SEQUENCE:3
DTSTAMP:20260420T053438Z
URL:https://business.sebastopol.org/events/details/beatles-sing-along-03-28-2015-5042239
END:VEVENT

END:VCALENDAR
