BEGIN:VCALENDAR
VERSION:2.0
PRODID:-//ChamberMaster//Event Calendar 2.0//EN
METHOD:PUBLISH
X-PUBLISHED-TTL:P3D
REFRESH-INTERVAL:P3D
CALSCALE:GREGORIAN
BEGIN:VEVENT
DTSTART:20140803T170000Z
DTEND:20140804T000000Z
X-MICROSOFT-CDO-ALLDAYEVENT:FALSE
SUMMARY:Big Event BBQ
DESCRIPTION:Bodega Volunteer Fire Department BBQ and Festival.  BBQ Tri-Tip or Chicken\, chili\, salad & garlic bread.  Adults $14 Child $8 Sonoma County's Shortest Parade at 10:30ish.  LIVE MUSIC! Free Admission\, Beer\, Wine\, Crafts\, Desserts\, Raffles\, Games for all ages.\n\nAll proceeds benefit the Bodega Volunteer Fire Department 501(c)3 non-profit.
X-ALT-DESC;FMTTYPE=text/html:Bodega Volunteer Fire Department BBQ and Festival.  BBQ Tri-Tip or Chicken\, chili\, salad & garlic bread.  Adults $14 Child $8 Sonoma County's Shortest Parade at 10:30ish.  LIVE MUSIC! Free Admission\, Beer\, Wine\, Crafts\, Desserts\, Raffles\, Games for all ages.\n\nAll proceeds benefit the Bodega Volunteer Fire Department 501(c)3 non-profit.
LOCATION:Downtown Bodega 17184 Bodega HWy
UID:e.3189.5041398
SEQUENCE:3
DTSTAMP:20260419T123232Z
URL:https://business.sebastopol.org/events/details/big-event-bbq-08-03-2014-5041398
END:VEVENT

END:VCALENDAR
