BEGIN:VCALENDAR
VERSION:2.0
PRODID:-//ChamberMaster//Event Calendar 2.0//EN
METHOD:PUBLISH
X-PUBLISHED-TTL:P3D
REFRESH-INTERVAL:P3D
CALSCALE:GREGORIAN
BEGIN:VEVENT
DTSTART:20150411T030000Z
DTEND:20150411T050000Z
X-MICROSOFT-CDO-ALLDAYEVENT:FALSE
SUMMARY:Blame Sally
DESCRIPTION:Blame Sally is a quartet with an attitude\, combining acoustic textures with Americana harmonies and an independent spirit. Blame Sally brings you everything from stompboxes to fiddles\, as they weave their magic in a tapestry of musical delight. And don't for a minute think of them as a folk band as they add a little bit of rock\, and a whole lotta heart into each and every performance\, blending the different genres into a melodic work of art.  Their live performances are more than just a musical journey\,as they banter back and forth with each other in between songs as only true friends can do\, making for a very entertaining evening.
X-ALT-DESC;FMTTYPE=text/html:Blame Sally is a quartet with an attitude\, combining acoustic textures with Americana harmonies and an independent spirit. Blame Sally brings you everything from stompboxes to fiddles\, as they weave their magic in a tapestry of musical delight. And don't for a minute think of them as a folk band as they add a little bit of rock\, and a whole lotta heart into each and every performance\, blending the different genres into a melodic work of art.  Their live performances are more than just a musical journey\,as they banter back and forth with each other in between songs as only true friends can do\, making for a very entertaining evening.
LOCATION:Sebastopol Community Cultural Center 390 Morris Street Sebastopol\, CA. 95472
UID:e.3189.5042248
SEQUENCE:3
DTSTAMP:20260420T035014Z
URL:https://business.sebastopol.org/events/details/blame-sally-04-10-2015-5042248
END:VEVENT

END:VCALENDAR
