BEGIN:VCALENDAR
VERSION:2.0
PRODID:-//ChamberMaster//Event Calendar 2.0//EN
METHOD:PUBLISH
X-PUBLISHED-TTL:P3D
REFRESH-INTERVAL:P3D
CALSCALE:GREGORIAN
BEGIN:VEVENT
DTSTART:20151010T020000Z
DTEND:20151101T060000Z
X-MICROSOFT-CDO-ALLDAYEVENT:FALSE
SUMMARY:Blind Scream Haunted Houses coming to Rohnert Park
DESCRIPTION:PURCHASE TICKETS AT COSTCO ROHNERT PARK: 5901 Redwood Drive\, Rohnert ParkBlind Scream is bringing three new haunted houses to Rohnert Park: BLACKOUT is a heart-thumping\, blood pumping\, walk through your darkest nightmares. It will have you screaming to get out. THE SWAMP SHACK takes you to the muggy\, dark swampy waters of Louisiana's Bayou to the dilapidated dwelling of Mama Sante Hunter. Some say she is a VooDoo witch and all that crosses her wretched threshold is cursed for life. CARNICUS features the "Good" Doc Hunter helping the Great P.T. Hunter in creating one of the worst sideshows of terror ever reassembled. Also featuring The Last Ride\, where you climb into an actual coffin and experience what it's like to be buried alive...complete with smells\, sounds and motion. Enter if you dare! Blind Scream Haunted House opens Friday\, October 9 and is located at 1500 Valley House Drive\, Rohnert Park\, at Sonoma Mountain Village next to Sally Tomatoes--haunting the North Bay on 17 select dates through October 31. Go to www.BlindScream.com for tickets and more information or call (707) 523-3728 for specific dates and times\, ticketing specials\, group rates and all the gory details.
X-ALT-DESC;FMTTYPE=text/html:<!--  Visual Designer HTML --><p>&nbsp\;</p><p><span style="text-decoration:underline"><strong><span style="font-weight: bold\;">PURCHASE TICKETS AT COSTCO ROHNERT PARK: 5901 Redwood Drive\, Rohnert Park</span></strong></span></p><p>Blind Scream is bringing three new haunted houses to Rohnert Park:&nbsp\;</p><p>BLACKOUT is a heart-thumping\, blood pumping\, walk through your darkest nightmares. It will have you screaming to get out.</p><p> THE SWAMP SHACK takes you to the muggy\, dark swampy waters of Louisiana's Bayou to the dilapidated dwelling of Mama Sante Hunter. Some say she is a VooDoo witch and all that crosses her wretched threshold is cursed for life.&nbsp\;</p><p>CARNICUS features the "Good" Doc Hunter helping the Great P.T. Hunter in creating one of the worst sideshows of terror ever reassembled.&nbsp\;</p><p>Also featuring The Last Ride\, where you climb into an actual coffin and experience what it's like to be&nbsp\;<em><span style="font-style: italic\;"><span style="font-style: italic\;"><span style="font-style: italic\;"><span style="font-style: italic\;"><span style="font-style: italic\;"><span style="font-style: italic\;">buried</span></span></span></span></span></span></em><em><span style="font-style: italic\;"><span style="font-style: italic\;"><span style="font-style: italic\;"><span style="font-style: italic\;"><span style="font-style: italic\;"><span style="font-style: italic\;"> alive</span></span></span></span></span></span></em>...complete with smells\, sounds and motion. </p><p>Enter if you dare! </p><p>Blind Scream Haunted House opens Friday\, October 9 and is located at 1500 Valley House Drive\, Rohnert Park\, at Sonoma Mountain Village next to Sally Tomatoes--haunting the North Bay on 17 select dates through October 31. Go to www.BlindScream.com for tickets and more information or call (707) 523-3728 for specific dates and times\, ticketing specials\, group rates and all the gory details.</p>
LOCATION:Address: 1500 Valley House Drive Rohnert Park\, CA 94928 (at Sonoma Mountain Village\, next to Sally Tomatoes)
UID:e.3189.35453
SEQUENCE:3
DTSTAMP:20260419T180415Z
URL:https://business.sebastopol.org/events/details/blind-scream-haunted-houses-coming-to-rohnert-park-10-09-2015-35453
END:VEVENT

END:VCALENDAR
