BEGIN:VCALENDAR
VERSION:2.0
PRODID:-//ChamberMaster//Event Calendar 2.0//EN
METHOD:PUBLISH
X-PUBLISHED-TTL:P3D
REFRESH-INTERVAL:P3D
CALSCALE:GREGORIAN
BEGIN:VEVENT
DTSTART:20120830T210000Z
DTEND:20120831T010000Z
X-MICROSOFT-CDO-ALLDAYEVENT:FALSE
SUMMARY:Blood Drive @ Mary's Pizza Shack
DESCRIPTION:Blood Drive at Mary’s Pizza Shack from 2pm - 6pm
X-ALT-DESC;FMTTYPE=text/html:Blood Drive at Mary’s Pizza Shack from 2pm - 6pm
LOCATION:790 Gravenstein Hwy N\, Sebastopol
UID:e.3189.8759
SEQUENCE:3
DTSTAMP:20260422T100341Z
URL:https://business.sebastopol.org/events/details/blood-drive-mary-s-pizza-shack-08-30-2012-8759
END:VEVENT

END:VCALENDAR
