BEGIN:VCALENDAR
VERSION:2.0
PRODID:-//ChamberMaster//Event Calendar 2.0//EN
METHOD:PUBLISH
X-PUBLISHED-TTL:P3D
REFRESH-INTERVAL:P3D
CALSCALE:GREGORIAN
BEGIN:VEVENT
DTSTART:20150502T170000Z
DTEND:20150503T230000Z
X-MICROSOFT-CDO-ALLDAYEVENT:FALSE
SUMMARY:Blossoms\, Bees & Barnyard Babies
DESCRIPTION:Pack up the family and head out to the farm! Tour your way through Sonoma County and visit farms of your choice. Milk a goat\, pet a chicken and get a behind-the-scenes peek at life on the farm.  \n\n•	Explore Sonoma County's vibrant agricultural community.\n•	Experience life on the farm behind the barnyard gates.\n•	Meet your farmers\, vintners & artisan producers.\n•	Learn about the origins of your food.\n•	Enjoy tastes\, tours\, & demonstrations fresh from the source.
X-ALT-DESC;FMTTYPE=text/html:Pack up the family and head out to the farm! Tour your way through Sonoma County and visit farms of your choice. Milk a goat\, pet a chicken and get a behind-the-scenes peek at life on the farm.  \n\n•	Explore Sonoma County's vibrant agricultural community.\n•	Experience life on the farm behind the barnyard gates.\n•	Meet your farmers\, vintners & artisan producers.\n•	Learn about the origins of your food.\n•	Enjoy tastes\, tours\, & demonstrations fresh from the source.
LOCATION:Various locations throughout Sonoma County.
UID:e.3189.5042233
SEQUENCE:3
DTSTAMP:20260420T021454Z
URL:https://business.sebastopol.org/events/details/blossoms-bees-barnyard-babies-05-02-2015-5042233
END:VEVENT

END:VCALENDAR
