BEGIN:VCALENDAR
VERSION:2.0
PRODID:-//ChamberMaster//Event Calendar 2.0//EN
METHOD:PUBLISH
X-PUBLISHED-TTL:P3D
REFRESH-INTERVAL:P3D
CALSCALE:GREGORIAN
BEGIN:VEVENT
DTSTART:20150829T170000Z
DTEND:20150831T000000Z
X-MICROSOFT-CDO-ALLDAYEVENT:FALSE
SUMMARY:Bodega Seafood and Wine Festival
DESCRIPTION:The idea for Bodega Seafood Art & Wine Festival was conceived in Florida\, of all places. Escaping the winter cold in 1995 to exhibit in art festivals\, Michael and Janet discovered that seafood festivals in Florida\, and the south were common. But these fun and entertaining events were rare on the West Coast. As luck would have it a suitable venue was soon chosen.\n\nThe festival focuses on quality\, and the on the bounty of the local area. The number of participating of artists is limited through a jury process to insure quality. Food purveyors\, wineries and micro breweries from throughout Northern California are carefully selected. Top entertainers are selected for eclectic variety and crowd pleasing popularity.\n\nIn 2004 the festival moved from its original home in Bodega Bay inland\, to the quaint village of Bodega. The move provided much better weather\, and an opportunity to expand the size of the show. The new site has gotten rave reviews and this is now the permanent location for this wonderful show.
X-ALT-DESC;FMTTYPE=text/html:The idea for Bodega Seafood Art & Wine Festival was conceived in Florida\, of all places. Escaping the winter cold in 1995 to exhibit in art festivals\, Michael and Janet discovered that seafood festivals in Florida\, and the south were common. But these fun and entertaining events were rare on the West Coast. As luck would have it a suitable venue was soon chosen.\n\nThe festival focuses on quality\, and the on the bounty of the local area. The number of participating of artists is limited through a jury process to insure quality. Food purveyors\, wineries and micro breweries from throughout Northern California are carefully selected. Top entertainers are selected for eclectic variety and crowd pleasing popularity.\n\nIn 2004 the festival moved from its original home in Bodega Bay inland\, to the quaint village of Bodega. The move provided much better weather\, and an opportunity to expand the size of the show. The new site has gotten rave reviews and this is now the permanent location for this wonderful show.
LOCATION:Watts Ranch: 16855 Bodega Highway Bodega\, CA 94922
UID:e.3189.5042546
SEQUENCE:3
DTSTAMP:20260419T210515Z
URL:https://business.sebastopol.org/events/details/bodega-seafood-and-wine-festival-08-29-2015-5042546
END:VEVENT

END:VCALENDAR
