BEGIN:VCALENDAR
VERSION:2.0
PRODID:-//ChamberMaster//Event Calendar 2.0//EN
METHOD:PUBLISH
X-PUBLISHED-TTL:P3D
REFRESH-INTERVAL:P3D
CALSCALE:GREGORIAN
BEGIN:VEVENT
DTSTART:20150118T033000Z
DTEND:20150118T063000Z
X-MICROSOFT-CDO-ALLDAYEVENT:FALSE
SUMMARY:Bonnie Brooks Jazz Festival
DESCRIPTION:Bonnie Brooks\, accompanied by John Simon (piano) and Cliff Hugo (stand up bass) will make the Brent Auditorium sizzle when they perform an evening of vocal jazz with swinging up tempo songs and slower ballads.   Tickets: $15
X-ALT-DESC;FMTTYPE=text/html:Bonnie Brooks\, accompanied by John Simon (piano) and Cliff Hugo (stand up bass) will make the Brent Auditorium sizzle when they perform an evening of vocal jazz with swinging up tempo songs and slower ballads.   Tickets: $15
LOCATION:Sebastopol Center for the Arts 282 High Street Sebastopol\, Ca 95472
UID:e.3189.31631
SEQUENCE:3
DTSTAMP:20260420T101508Z
URL:https://business.sebastopol.org/events/details/bonnie-brooks-jazz-festival-01-17-2015-31631
END:VEVENT

END:VCALENDAR
