BEGIN:VCALENDAR
VERSION:2.0
PRODID:-//ChamberMaster//Event Calendar 2.0//EN
METHOD:PUBLISH
X-PUBLISHED-TTL:P3D
REFRESH-INTERVAL:P3D
CALSCALE:GREGORIAN
BEGIN:VEVENT
DTSTART:20120915T020000Z
DTEND:20120915T040000Z
X-MICROSOFT-CDO-ALLDAYEVENT:FALSE
SUMMARY:Book Launch @ OAC
DESCRIPTION:Sarah Andrews’ Rock Bottom\, features geologist crime solver\, Em Hansen.   Reading & book signing.   Free admission (donations happily accepted!). Refreshments served.
X-ALT-DESC;FMTTYPE=text/html:Sarah Andrews’ Rock Bottom\, features geologist crime solver\, Em Hansen.   Reading & book signing.   Free admission (donations happily accepted!). Refreshments served.
LOCATION:Occidental Center for the Arts 3850 Doris Murphy Way Occidental
UID:e.3189.8778
SEQUENCE:3
DTSTAMP:20260422T083533Z
URL:https://business.sebastopol.org/events/details/book-launch-oac-09-14-2012-8778
END:VEVENT

END:VCALENDAR
