BEGIN:VCALENDAR
VERSION:2.0
PRODID:-//ChamberMaster//Event Calendar 2.0//EN
METHOD:PUBLISH
X-PUBLISHED-TTL:P3D
REFRESH-INTERVAL:P3D
CALSCALE:GREGORIAN
BEGIN:VEVENT
DTSTART:20151028T230000Z
DTEND:20151029T023000Z
X-MICROSOFT-CDO-ALLDAYEVENT:FALSE
SUMMARY:BOOST YOUR BUSINESS SHOWCASE
DESCRIPTION:The forum will take place from 4:00-5:30pm. Following\, attendees will have the opportunity to visit\, enjoy light refreshments\, a no host wine bar and network at the booths of local businesses at the showcase from 5:30-7:30.\n This event is open to the public.\n\nPlease note: This event will also serve as the "Business After 5" mixer for the month of October.
X-ALT-DESC;FMTTYPE=text/html:<!--  Visual Designer HTML --><span style="font-size:14px">The forum will take place from 4:00-5:30pm. Following\, attendees will have the opportunity to visit\, enjoy light refreshments\, a no host wine bar and network at the booths of local businesses at the showcase from 5:30-7:30.\n This event is open to the public.\n\nPlease note: This event will also serve as the "Business After 5" mixer for the month of October.</span>
LOCATION:Sebastopol Center for the Arts 282 S High Street\, Sebastopol\, CA 95472 Keynote Speaker: Supervisor Efren Carrillo
UID:e.3189.35407
SEQUENCE:3
DTSTAMP:20260419T175816Z
URL:https://business.sebastopol.org/events/details/boost-your-business-showcase-10-28-2015-35407
END:VEVENT

END:VCALENDAR
