BEGIN:VCALENDAR
VERSION:2.0
PRODID:-//ChamberMaster//Event Calendar 2.0//EN
METHOD:PUBLISH
X-PUBLISHED-TTL:P3D
REFRESH-INTERVAL:P3D
CALSCALE:GREGORIAN
BEGIN:VEVENT
DTSTART:20121004T160000Z
DTEND:20121004T190000Z
X-MICROSOFT-CDO-ALLDAYEVENT:FALSE
SUMMARY:Build Your Business with Email Marketing
DESCRIPTION:Build Your Business with Email Marketing\n9 am - 10:30 am \nBuild the relationships that are the key to your business success with easy\, inexpensive and highly effective email marketing! In this seminar\, we will provide tips to increase your email deliverability and open rates\, write good headlines and content\, and perhaps most importantly\, strategies for getting -- and keeping -- high quality prospects\, customers and members. You will learn how to:\n\n* Become a trusted email sender in the eyes of your prospects\, customers\, and members.\n\n* Build your list! How to find and keep email list subscribers.\n\n* Get your sent emails opened and read.\n\n* Turn your readers into more frequent buyers/supporters/donators.\n\n* Incorporate Social Media into your email marketing for the highest success\n\n* Use email communications to improve customer/member loyalty.\n\n\nGetting Started with Constant Contact\n\n10:30 am - 12 noon \n\nMore than 450\,000 businesses use Constant Contact to help grow their repeat and referral business.\n\nThis interactive workshop saves you time by allowing you to quickly and easily master the entire Constant Contact Email Marketing system. We'll provide tips and techniques and guide you through the tools and features of the system. You'll learn how to set up account options\, add signup boxes to your website and emails\, load a list\, build a campaign\, and brand your email to match websites and logos. We will also go over text editing and how to work with graphics and colors to give your emails a polished\, professional look.\n\nWho Should Attend: Trial Customers\, New Users and anyone interested in a hands-on look at Constant Contact\n\nPresented by Elyse Tager\, Regional Development Director\, Constant Contact
X-ALT-DESC;FMTTYPE=text/html:Build Your Business with Email Marketing\n9 am - 10:30 am \nBuild the relationships that are the key to your business success with easy\, inexpensive and highly effective email marketing! In this seminar\, we will provide tips to increase your email deliverability and open rates\, write good headlines and content\, and perhaps most importantly\, strategies for getting -- and keeping -- high quality prospects\, customers and members. You will learn how to:\n\n* Become a trusted email sender in the eyes of your prospects\, customers\, and members.\n\n* Build your list! How to find and keep email list subscribers.\n\n* Get your sent emails opened and read.\n\n* Turn your readers into more frequent buyers/supporters/donators.\n\n* Incorporate Social Media into your email marketing for the highest success\n\n* Use email communications to improve customer/member loyalty.\n\n\nGetting Started with Constant Contact\n\n10:30 am - 12 noon \n\nMore than 450\,000 businesses use Constant Contact to help grow their repeat and referral business.\n\nThis interactive workshop saves you time by allowing you to quickly and easily master the entire Constant Contact Email Marketing system. We'll provide tips and techniques and guide you through the tools and features of the system. You'll learn how to set up account options\, add signup boxes to your website and emails\, load a list\, build a campaign\, and brand your email to match websites and logos. We will also go over text editing and how to work with graphics and colors to give your emails a polished\, professional look.\n\nWho Should Attend: Trial Customers\, New Users and anyone interested in a hands-on look at Constant Contact\n\nPresented by Elyse Tager\, Regional Development Director\, Constant Contact
LOCATION:Rohnert Park Community Center\, 5401 Snyder Lane\, Rohnert Park
UID:e.3189.10459
SEQUENCE:3
DTSTAMP:20260422T071335Z
URL:https://business.sebastopol.org/events/details/build-your-business-with-email-marketing-10-04-2012-10459
END:VEVENT

END:VCALENDAR
