BEGIN:VCALENDAR
VERSION:2.0
PRODID:-//ChamberMaster//Event Calendar 2.0//EN
METHOD:PUBLISH
X-PUBLISHED-TTL:P3D
REFRESH-INTERVAL:P3D
CALSCALE:GREGORIAN
BEGIN:VEVENT
DTSTART:20151121T170000Z
DTEND:20151121T230000Z
X-MICROSOFT-CDO-ALLDAYEVENT:FALSE
SUMMARY:Burbank Heights and Orchards Holiday Craft Faire
DESCRIPTION:Crafts galore from residents of our 200-resident community. Handmade cards\, photos\, paintings\, pencil drawings of commercial quality\, wood carved items\; many unique items. Come and holiday shop and view our newly-remodeled Community Building. Buy some goodies to take home or relax with a cup of coffee and a snack downstairs in our beautiful recreation room.
X-ALT-DESC;FMTTYPE=text/html:<!--  Visual Designer HTML --><p> Crafts galore from residents of our 200-resident community. Handmade cards\, photos\, paintings\, pencil drawings of commercial quality\, wood carved items\; many unique items.&nbsp\;</p><p>Come and holiday shop and view our newly-remodeled Community Building. Buy some goodies to take home or relax with a cup of coffee and a snack downstairs in our beautiful recreation room.&nbsp\;</p>
LOCATION:Burbank Heights and Orchards7777 Bodega Avenue\, Sebastopol CA 95472Cross street: Nelson Way Turn south into the community and wind your way up the hill to the Community Building. Park in any non-numbered parking space. Additional parking at the Gold Ridge Farm lot or around the back.
UID:e.3189.5042921
SEQUENCE:3
DTSTAMP:20260419T161827Z
URL:https://business.sebastopol.org/events/details/burbank-heights-and-orchards-holiday-craft-faire-11-21-2015-5042921
END:VEVENT

END:VCALENDAR
