BEGIN:VCALENDAR
VERSION:2.0
PRODID:-//ChamberMaster//Event Calendar 2.0//EN
METHOD:PUBLISH
X-PUBLISHED-TTL:P3D
REFRESH-INTERVAL:P3D
CALSCALE:GREGORIAN
BEGIN:VEVENT
DTSTART:20140829T003000Z
DTEND:20140829T020000Z
X-MICROSOFT-CDO-ALLDAYEVENT:FALSE
SUMMARY:Business After 5
DESCRIPTION:Installation of new Board and Year End Recognition of officers and committee work.  Join us for some fun networking with fellow businesses.Tour the Distillery. Light snacks will be provided.
X-ALT-DESC;FMTTYPE=text/html:Installation of new Board and Year End Recognition of officers and committee work.  Join us for some fun networking with fellow businesses.Tour the Distillery. Light snacks will be provided.
LOCATION:Spirit Works Distillery 6790 McKinley Street # 100 in the Barlow Sebastopol\, CA 95472 (It's a Street Faire night\, you may choose to enter at the Laguna Park Way side and entrance.)
UID:e.3189.24343
SEQUENCE:3
DTSTAMP:20260419T123217Z
URL:https://business.sebastopol.org/events/details/business-after-5-08-28-2014-24343
END:VEVENT

END:VCALENDAR
