BEGIN:VCALENDAR
VERSION:2.0
PRODID:-//ChamberMaster//Event Calendar 2.0//EN
METHOD:PUBLISH
X-PUBLISHED-TTL:P3D
REFRESH-INTERVAL:P3D
CALSCALE:GREGORIAN
BEGIN:VEVENT
DTSTART:20150123T013000Z
DTEND:20150123T030000Z
X-MICROSOFT-CDO-ALLDAYEVENT:FALSE
SUMMARY:Business After 5 Mixer
DESCRIPTION:Join us for some fun networking with fellow businesses. Wine and light snacks will be provided. Sponsored by Vanguard Properties.
X-ALT-DESC;FMTTYPE=text/html:Join us for some fun networking with fellow businesses. Wine and light snacks will be provided. Sponsored by Vanguard Properties.
LOCATION:Vanguard Properties\, In The Barlow\, 6790 McKinley Street\, Suite 120\, Sebastopol\, CA 95472
UID:e.3189.31221
SEQUENCE:3
DTSTAMP:20260420T084428Z
URL:https://business.sebastopol.org/events/details/business-after-5-mixer-01-22-2015-31221
END:VEVENT

END:VCALENDAR
