BEGIN:VCALENDAR
VERSION:2.0
PRODID:-//ChamberMaster//Event Calendar 2.0//EN
METHOD:PUBLISH
X-PUBLISHED-TTL:P3D
REFRESH-INTERVAL:P3D
CALSCALE:GREGORIAN
BEGIN:VEVENT
DTSTART:20150327T003000Z
DTEND:20150327T020000Z
X-MICROSOFT-CDO-ALLDAYEVENT:FALSE
SUMMARY:Business After 5 Mixer
DESCRIPTION:Come join in the networking with fellow Chamber members and business colleagues. Always a fun and informative time! Wine and light appetizers will be provided.
X-ALT-DESC;FMTTYPE=text/html:Come join in the networking with fellow Chamber members and business colleagues. Always a fun and informative time! Wine and light appetizers will be provided.
LOCATION:Sebastopol Masonic Hall 373 North Main St. Sebastopol\, CA 95472
UID:e.3189.31224
SEQUENCE:3
DTSTAMP:20260420T053554Z
URL:https://business.sebastopol.org/events/details/business-after-5-mixer-03-26-2015-31224
END:VEVENT

END:VCALENDAR
