BEGIN:VCALENDAR
VERSION:2.0
PRODID:-//ChamberMaster//Event Calendar 2.0//EN
METHOD:PUBLISH
X-PUBLISHED-TTL:P3D
REFRESH-INTERVAL:P3D
CALSCALE:GREGORIAN
BEGIN:VEVENT
DTSTART:20141121T013000Z
DTEND:20141121T030000Z
X-MICROSOFT-CDO-ALLDAYEVENT:FALSE
SUMMARY:Business After 5 Mixer
DESCRIPTION:Join us for some fun networking with fellow businesses. Wine and light snacks will be provided. Sponsored by Umpqua Bank And Rotary Club Sunrise Sebastopol.
X-ALT-DESC;FMTTYPE=text/html:Join us for some fun networking with fellow businesses. Wine and light snacks will be provided. Sponsored by Umpqua Bank And Rotary Club Sunrise Sebastopol.
LOCATION:Umpqua Bank 201 North main Street Sebastopol\, CA 95472
UID:e.3189.27321
SEQUENCE:3
DTSTAMP:20260420T114426Z
URL:https://business.sebastopol.org/events/details/business-after-5-mixer-11-20-2014-27321
END:VEVENT

END:VCALENDAR
