BEGIN:VCALENDAR
VERSION:2.0
PRODID:-//ChamberMaster//Event Calendar 2.0//EN
METHOD:PUBLISH
X-PUBLISHED-TTL:P3D
REFRESH-INTERVAL:P3D
CALSCALE:GREGORIAN
BEGIN:VEVENT
DTSTART:20141219T013000Z
DTEND:20141219T030000Z
X-MICROSOFT-CDO-ALLDAYEVENT:FALSE
SUMMARY:Business After 5 Mixer
DESCRIPTION:Come join in the networking with fellow Chamber members and business colleagues. Always a fun and informative time!
X-ALT-DESC;FMTTYPE=text/html:Come join in the networking with fellow Chamber members and business colleagues. Always a fun and informative time!
LOCATION:C14 Contemporary Arts 6780 Depot Street\, Suite 100 Sebastopol\, CA 95472
UID:e.3189.27396
SEQUENCE:3
DTSTAMP:20260420T101109Z
URL:https://business.sebastopol.org/events/details/business-after-5-mixer-12-18-2014-27396
END:VEVENT

END:VCALENDAR
