BEGIN:VCALENDAR
VERSION:2.0
PRODID:-//ChamberMaster//Event Calendar 2.0//EN
METHOD:PUBLISH
X-PUBLISHED-TTL:P3D
REFRESH-INTERVAL:P3D
CALSCALE:GREGORIAN
BEGIN:VEVENT
DTSTART:20160129T013000Z
DTEND:20160129T030000Z
X-MICROSOFT-CDO-ALLDAYEVENT:FALSE
SUMMARY:BUSINESS AFTER FIVE
DESCRIPTION:Join us for our January "Business After Five" mixer\, hosted by Umpqua Bank and Rotary Club Sebastopol Sunrise. The mixer will take place on Thursday\, January 28 at Umpqua Bank in Sebastopol\, from 5:30-7:00pm. Come enjoy a great night of networking with one another. \nWe are also recognizing National School Choice Week!\n\nTo RSVP for this event\, click the online button and log on. Non members call the Chamber 823-3032
X-ALT-DESC;FMTTYPE=text/html:<!--  Visual Designer HTML --><span style="font-size:16px\;color:#0000ff">Join us for our January "Business After Five" mixer\, hosted by Umpqua Bank and Rotary Club Sebastopol Sunrise. The mixer will take place on Thursday\, January 28 at Umpqua Bank in Sebastopol\, from 5:30-7:00pm. Come enjoy a great night of networking with one another. \nWe are also recognizing National School Choice Week!\n\nTo RSVP for this event\, click the online button and log on. Non members call the Chamber 823-3032</span>
LOCATION:Umpqua Bank 201 N. Main St. Sebastopol
UID:e.3189.38089
SEQUENCE:3
DTSTAMP:20260419T125103Z
URL:https://business.sebastopol.org/events/details/business-after-five-01-28-2016-38089
END:VEVENT

END:VCALENDAR
