BEGIN:VCALENDAR
VERSION:2.0
PRODID:-//ChamberMaster//Event Calendar 2.0//EN
METHOD:PUBLISH
X-PUBLISHED-TTL:P3D
REFRESH-INTERVAL:P3D
CALSCALE:GREGORIAN
BEGIN:VEVENT
DTSTART:20130301T013000Z
DTEND:20130301T030000Z
X-MICROSOFT-CDO-ALLDAYEVENT:FALSE
SUMMARY:BUSINESS AFTER FIVE
DESCRIPTION:This month's mixer is hosted by the Western Sonoma County Historical Society at their Museum.  They\nare celebrating their 20 year and their new exhibit is on display featuring Earl Carrillo.\n\nJoin us for light refreshments\, networking and a little history.  Right next door to the \nChamber office\, plenty of parking in the lot behind the building!
X-ALT-DESC;FMTTYPE=text/html:This month's mixer is hosted by the Western Sonoma County Historical Society at their Museum.  They\nare celebrating their 20 year and their new exhibit is on display featuring Earl Carrillo.\n\nJoin us for light refreshments\, networking and a little history.  Right next door to the \nChamber office\, plenty of parking in the lot behind the building!
LOCATION:West Sonoma County Museum 261 So. Main St. Sebastopol
UID:e.3189.15224
SEQUENCE:3
DTSTAMP:20260422T010247Z
URL:https://business.sebastopol.org/events/details/business-after-five-02-28-2013-15224
END:VEVENT

END:VCALENDAR
