BEGIN:VCALENDAR
VERSION:2.0
PRODID:-//ChamberMaster//Event Calendar 2.0//EN
METHOD:PUBLISH
X-PUBLISHED-TTL:P3D
REFRESH-INTERVAL:P3D
CALSCALE:GREGORIAN
BEGIN:VEVENT
DTSTART:20130329T000000Z
DTEND:20130329T020000Z
X-MICROSOFT-CDO-ALLDAYEVENT:FALSE
SUMMARY:BUSINESS AFTER FIVE
DESCRIPTION:This month's mixer is hosted by Timothy and Camille Hedges\, Frank Howard Allen Realtors.  They\nare celebrating their grand opening of their new office.\n\n The office is located at Burnett and So Main St. across\nfrom the Independent Charter School.
X-ALT-DESC;FMTTYPE=text/html:This month's mixer is hosted by Timothy and Camille Hedges\, Frank Howard Allen Realtors.  They\nare celebrating their grand opening of their new office.\n\n The office is located at Burnett and So Main St. across\nfrom the Independent Charter School.
LOCATION:130 South Main St.\, Suite 114 Sebastopol\, CA 95472
UID:e.3189.15376
SEQUENCE:3
DTSTAMP:20260421T232805Z
URL:https://business.sebastopol.org/events/details/business-after-five-03-28-2013-15376
END:VEVENT

END:VCALENDAR
