BEGIN:VCALENDAR
VERSION:2.0
PRODID:-//ChamberMaster//Event Calendar 2.0//EN
METHOD:PUBLISH
X-PUBLISHED-TTL:P3D
REFRESH-INTERVAL:P3D
CALSCALE:GREGORIAN
BEGIN:VEVENT
DTSTART:20130426T003000Z
DTEND:20130426T020000Z
X-MICROSOFT-CDO-ALLDAYEVENT:FALSE
SUMMARY:BUSINESS AFTER FIVE
DESCRIPTION:Hosted by the Community Church and the Sunrise Rotary\nCome help welcome the new building\, network and enjoy refreshments.
X-ALT-DESC;FMTTYPE=text/html:Hosted by the Community Church and the Sunrise Rotary\nCome help welcome the new building\, network and enjoy refreshments.
LOCATION:Community Church of Sebastopol 1000 Gravenstein Hwy. North Sebastopol
UID:e.3189.15529
SEQUENCE:3
DTSTAMP:20260421T215517Z
URL:https://business.sebastopol.org/events/details/business-after-five-04-25-2013-15529
END:VEVENT

END:VCALENDAR
