BEGIN:VCALENDAR
VERSION:2.0
PRODID:-//ChamberMaster//Event Calendar 2.0//EN
METHOD:PUBLISH
X-PUBLISHED-TTL:P3D
REFRESH-INTERVAL:P3D
CALSCALE:GREGORIAN
BEGIN:VEVENT
DTSTART:20130524T003000Z
DTEND:20130524T020000Z
X-MICROSOFT-CDO-ALLDAYEVENT:FALSE
SUMMARY:BUSINESS AFTER FIVE
DESCRIPTION:Mix business with pleasure and some great art.\nEnjoy the Art at the Source Gallery Show\nRefreshments\, mixing and mingling\, network with artists and business colleagues.
X-ALT-DESC;FMTTYPE=text/html:Mix business with pleasure and some great art.\nEnjoy the Art at the Source Gallery Show\nRefreshments\, mixing and mingling\, network with artists and business colleagues.
LOCATION:Sebastopol Center for the Arts 282 High St. Sebastopol\, Ca
UID:e.3189.15554
SEQUENCE:3
DTSTAMP:20260421T215542Z
URL:https://business.sebastopol.org/events/details/business-after-five-05-23-2013-15554
END:VEVENT

END:VCALENDAR
