BEGIN:VCALENDAR
VERSION:2.0
PRODID:-//ChamberMaster//Event Calendar 2.0//EN
METHOD:PUBLISH
X-PUBLISHED-TTL:P3D
REFRESH-INTERVAL:P3D
CALSCALE:GREGORIAN
BEGIN:VEVENT
DTSTART:20150626T003000Z
DTEND:20150626T020000Z
X-MICROSOFT-CDO-ALLDAYEVENT:FALSE
SUMMARY:Business After Five
DESCRIPTION:Join us at the Senior Center for some refreshments\, networking and good old fashioned summer fun!
X-ALT-DESC;FMTTYPE=text/html:Join us at the Senior Center for some refreshments\, networking and good old fashioned summer fun!
LOCATION:Sebastopol Area Senior Center 167 No. High St. Sebastopol
UID:e.3189.32824
SEQUENCE:3
DTSTAMP:20260420T021054Z
URL:https://business.sebastopol.org/events/details/business-after-five-06-25-2015-32824
END:VEVENT

END:VCALENDAR
