BEGIN:VCALENDAR
VERSION:2.0
PRODID:-//ChamberMaster//Event Calendar 2.0//EN
METHOD:PUBLISH
X-PUBLISHED-TTL:P3D
REFRESH-INTERVAL:P3D
CALSCALE:GREGORIAN
BEGIN:VEVENT
DTSTART:20150828T000000Z
DTEND:20150828T023000Z
X-MICROSOFT-CDO-ALLDAYEVENT:FALSE
SUMMARY:BUSINESS AFTER FIVE
DESCRIPTION:Join us for: a fun evening under the treesa tour of the Millnetworkingrefreshments Fellowshipa wrap up of our Chamber year installation and recognition!
X-ALT-DESC;FMTTYPE=text/html:<!--  Visual Designer HTML --><p><span style="font-size:18px\;color:#800000">Join us for:</span></p><ul style="margin-left: .5em\;"><li style="list-style-type: disc\;"><span style="font-size:18px\;color:#800000"> a fun evening under the trees</span></li><li style="list-style-type: disc\;"><span style="font-size:18px\;color:#800000">a tour of the Mill</span></li><li style="list-style-type: disc\;"><span style="font-size:18px\;color:#800000">networking</span></li><li style="list-style-type: disc\;"><span style="font-size:18px\;color:#800000">refreshments </span></li><li style="list-style-type: disc\;"><span style="font-size:18px\;color:#800000">Fellowship</span></li><li style="list-style-type: disc\;"><span style="font-size:18px\;color:#800000">a wrap up of our Chamber year</span></li><li style="list-style-type: disc\;"><span style="font-size:18px\;color:#800000"> installation and recognition!</span></li></ul>
LOCATION:Hosted by Rotary Club of Sebastopol At Sturgeon's Mill 2150 Green Hill Rd. Sebastopol DIRECTIONS TO THE MILL
UID:e.3189.34913
SEQUENCE:3
DTSTAMP:20260419T223257Z
URL:https://business.sebastopol.org/events/details/business-after-five-08-27-2015-34913
END:VEVENT

END:VCALENDAR
